BEGIN:VCALENDAR
VERSION:2.0
PRODID:-// - ECPv6.15.20//NONSGML v1.0//EN
CALSCALE:GREGORIAN
METHOD:PUBLISH
X-ORIGINAL-URL:https://www.atascaderopolicefoundation.org
X-WR-CALDESC:Events for 
REFRESH-INTERVAL;VALUE=DURATION:PT1H
X-Robots-Tag:noindex
X-PUBLISHED-TTL:PT1H
BEGIN:VTIMEZONE
TZID:UTC
BEGIN:STANDARD
TZOFFSETFROM:+0000
TZOFFSETTO:+0000
TZNAME:UTC
DTSTART:20240101T000000
END:STANDARD
END:VTIMEZONE
BEGIN:VEVENT
DTSTART;VALUE=DATE:20250301
DTEND;VALUE=DATE:20250302
DTSTAMP:20260425T223323
CREATED:20250212T041923Z
LAST-MODIFIED:20250212T043826Z
UID:1001-1740787200-1740873599@www.atascaderopolicefoundation.org
SUMMARY:Luca Benedetti Scholarship Applications Due!
DESCRIPTION:This scholarship honors the legacy of Officer Luca Benedetti and supports local students pursuing higher education. If you’re a high school senior with a passion for public service\, this is an opportunity you won’t want to miss!
URL:https://www.atascaderopolicefoundation.org/event/luca-benedetti-scholarship-applications-due/
ATTACH;FMTTYPE=image/png:https://www.atascaderopolicefoundation.org/wp-content/uploads/2024/10/blueorangeapfgrad.png
END:VEVENT
END:VCALENDAR