BEGIN:VCALENDAR
VERSION:2.0
PRODID:-// - ECPv6.15.20//NONSGML v1.0//EN
CALSCALE:GREGORIAN
METHOD:PUBLISH
X-ORIGINAL-URL:https://www.atascaderopolicefoundation.org
X-WR-CALDESC:Events for 
REFRESH-INTERVAL;VALUE=DURATION:PT1H
X-Robots-Tag:noindex
X-PUBLISHED-TTL:PT1H
BEGIN:VTIMEZONE
TZID:UTC
BEGIN:STANDARD
TZOFFSETFROM:+0000
TZOFFSETTO:+0000
TZNAME:UTC
DTSTART:20240101T000000
END:STANDARD
END:VTIMEZONE
BEGIN:VEVENT
DTSTART;TZID=UTC:20250322T130000
DTEND;TZID=UTC:20250322T140000
DTSTAMP:20260425T223414
CREATED:20240322T130021Z
LAST-MODIFIED:20250212T043157Z
UID:771-1742648400-1742652000@www.atascaderopolicefoundation.org
SUMMARY:ECHO Birthday Party
DESCRIPTION:Join us for a fun-filled ECHO Birthday Party hosted by the Atascadero Police Foundation! This special event celebrates local children with an unforgettable birthday party experience\, complete with activities\, treats\, and a visit from our officers. The APF ECHO Birthday Program brings joy to kids in our community\, and we’d love for you to be part of the celebration!
URL:https://www.atascaderopolicefoundation.org/event/echo-birthday-party-2/
LOCATION:ECHO\, 6370 Atascadero Avenue\, Atascadero\, CA\, 93422\, United States
ATTACH;FMTTYPE=image/jpeg:https://www.atascaderopolicefoundation.org/wp-content/uploads/2024/03/ECHO-PARTY-2-1.jpg
ORGANIZER;CN="Officer Braun":MAILTO:info@atascaderopolicefoundation.org
END:VEVENT
END:VCALENDAR