BEGIN:VCALENDAR
VERSION:2.0
PRODID:-// - ECPv6.15.20//NONSGML v1.0//EN
CALSCALE:GREGORIAN
METHOD:PUBLISH
X-ORIGINAL-URL:https://www.atascaderopolicefoundation.org
X-WR-CALDESC:Events for 
REFRESH-INTERVAL;VALUE=DURATION:PT1H
X-Robots-Tag:noindex
X-PUBLISHED-TTL:PT1H
BEGIN:VTIMEZONE
TZID:UTC
BEGIN:STANDARD
TZOFFSETFROM:+0000
TZOFFSETTO:+0000
TZNAME:UTC
DTSTART:20240101T000000
END:STANDARD
END:VTIMEZONE
BEGIN:VEVENT
DTSTART;VALUE=DATE:20250512
DTEND;VALUE=DATE:20250515
DTSTAMP:20260425T170709
CREATED:20250212T041424Z
LAST-MODIFIED:20250528T034019Z
UID:995-1747008000-1747267199@www.atascaderopolicefoundation.org
SUMMARY:Honor Flight
DESCRIPTION:The APF sponsors APD Officers as Guardians for Honor Flight Central Coast!
URL:https://www.atascaderopolicefoundation.org/event/honor-flight/
ATTACH;FMTTYPE=image/jpeg:https://www.atascaderopolicefoundation.org/wp-content/uploads/2024/08/wash-scaled.jpeg
END:VEVENT
END:VCALENDAR