BEGIN:VCALENDAR
VERSION:2.0
PRODID:-// - ECPv6.15.20//NONSGML v1.0//EN
CALSCALE:GREGORIAN
METHOD:PUBLISH
X-ORIGINAL-URL:https://www.atascaderopolicefoundation.org
X-WR-CALDESC:Events for 
REFRESH-INTERVAL;VALUE=DURATION:PT1H
X-Robots-Tag:noindex
X-PUBLISHED-TTL:PT1H
BEGIN:VTIMEZONE
TZID:UTC
BEGIN:STANDARD
TZOFFSETFROM:+0000
TZOFFSETTO:+0000
TZNAME:UTC
DTSTART:20240101T000000
END:STANDARD
END:VTIMEZONE
BEGIN:VEVENT
DTSTART;TZID=UTC:20250831T180000
DTEND;TZID=UTC:20250831T200000
DTSTAMP:20260425T114256
CREATED:20250819T132020Z
LAST-MODIFIED:20250819T132020Z
UID:1352-1756663200-1756670400@www.atascaderopolicefoundation.org
SUMMARY:Guardians of Honor Fundraiser at Bella Luna
DESCRIPTION:Join us at Bella Luna Winery during their concert event for a special fundraiser hosted by the Police Foundation! We’ll have a booth set up to raise funds for Guardians of Honor\, a APF program that sends Atascadero Police Officers to serve as guardians for veterans who otherwise would not be able to participate in Honor Flight. Come enjoy great music\, great wine\, and support a great cause!
URL:https://www.atascaderopolicefoundation.org/event/battleofbadges25-2/
LOCATION:1850 Templeton Rd Templeton\, California 93465\, 1850 Templeton Rd\, Templeton\, CA\, United States
ATTACH;FMTTYPE=image/jpeg:https://www.atascaderopolicefoundation.org/wp-content/uploads/2025/05/IMG_0352.jpg
END:VEVENT
END:VCALENDAR