BEGIN:VCALENDAR
VERSION:2.0
PRODID:-// - ECPv6.15.20//NONSGML v1.0//EN
CALSCALE:GREGORIAN
METHOD:PUBLISH
X-ORIGINAL-URL:https://www.atascaderopolicefoundation.org
X-WR-CALDESC:Events for 
REFRESH-INTERVAL;VALUE=DURATION:PT1H
X-Robots-Tag:noindex
X-PUBLISHED-TTL:PT1H
BEGIN:VTIMEZONE
TZID:UTC
BEGIN:STANDARD
TZOFFSETFROM:+0000
TZOFFSETTO:+0000
TZNAME:UTC
DTSTART:20240101T000000
END:STANDARD
END:VTIMEZONE
BEGIN:VEVENT
DTSTART;VALUE=DATE:20251001
DTEND;VALUE=DATE:20251101
DTSTAMP:20260423T173603
CREATED:20250513T035035Z
LAST-MODIFIED:20250916T233159Z
UID:1167-1759276800-1761955199@www.atascaderopolicefoundation.org
SUMMARY:Pink Patch Project
DESCRIPTION:Join us this October as the Atascadero Police Foundation participates in the Pink Patch Project\, raising awareness and funds for local breast cancer research. Pink patches and pins will be available for purchase online and at the Atascadero Police Department\, Monday-Friday 08:00am-03:00pm . Show your support and help us make a difference in our SLO County community!
URL:https://www.atascaderopolicefoundation.org/event/pink-patch-project/
ATTACH;FMTTYPE=image/jpeg:https://www.atascaderopolicefoundation.org/wp-content/uploads/2024/09/gcb3fe0b0f6eb3681bbc007336cde786b2b6e6210222c9f02ea2c6cd84d8d0f7e7251b5a37df42854e6a4de59ec2d22d93fcb67a576be7472f716803522d59bee_1280-3715346.jpg
END:VEVENT
BEGIN:VEVENT
DTSTART;VALUE=DATE:20251013
DTEND;VALUE=DATE:20251014
DTSTAMP:20260423T173603
CREATED:20250513T034521Z
LAST-MODIFIED:20250513T034521Z
UID:1163-1760313600-1760399999@www.atascaderopolicefoundation.org
SUMMARY:APF Board Meeting
DESCRIPTION:The Atascadero Police Foundation Board meets monthly to discuss community safety initiatives and upcoming events. \nCommunity members are welcome to attend by request. To learn more or inquire about joining a meeting\, please contact us at info@atascaderopolicefoundation.org.
URL:https://www.atascaderopolicefoundation.org/event/apf-board-meeting-3-2/
ATTACH;FMTTYPE=image/png:https://www.atascaderopolicefoundation.org/wp-content/uploads/2024/08/cropped-APF-1.png
END:VEVENT
END:VCALENDAR