BEGIN:VCALENDAR
VERSION:2.0
PRODID:-// - ECPv6.15.20//NONSGML v1.0//EN
CALSCALE:GREGORIAN
METHOD:PUBLISH
X-ORIGINAL-URL:https://www.atascaderopolicefoundation.org
X-WR-CALDESC:Events for 
REFRESH-INTERVAL;VALUE=DURATION:PT1H
X-Robots-Tag:noindex
X-PUBLISHED-TTL:PT1H
BEGIN:VTIMEZONE
TZID:UTC
BEGIN:STANDARD
TZOFFSETFROM:+0000
TZOFFSETTO:+0000
TZNAME:UTC
DTSTART:20250101T000000
END:STANDARD
END:VTIMEZONE
BEGIN:VEVENT
DTSTART;VALUE=DATE:20261001
DTEND;VALUE=DATE:20261101
DTSTAMP:20260421T155319
CREATED:20260122T021925Z
LAST-MODIFIED:20260122T021925Z
UID:1473-1790812800-1793491199@www.atascaderopolicefoundation.org
SUMMARY:Pink Patch Project
DESCRIPTION:Join us this October as the Atascadero Police Foundation participates in the Pink Patch Project\, raising awareness and funds for local breast cancer research. Pink patches and pins will be available for purchase online and at the Atascadero Police Department\, Monday-Friday 08:00am-03:00pm . Show your support and help us make a difference in our SLO County community!
URL:https://www.atascaderopolicefoundation.org/event/pink-patch-project-2026/
LOCATION:5505 El Camino Real\, 5505 El Camino Real\, Atascadero\, CA\, 93422\, United States
ATTACH;FMTTYPE=image/jpeg:https://www.atascaderopolicefoundation.org/wp-content/uploads/2024/09/gcb3fe0b0f6eb3681bbc007336cde786b2b6e6210222c9f02ea2c6cd84d8d0f7e7251b5a37df42854e6a4de59ec2d22d93fcb67a576be7472f716803522d59bee_1280-3715346.jpg
END:VEVENT
END:VCALENDAR