BEGIN:VCALENDAR
VERSION:2.0
PRODID:-// - ECPv6.15.20//NONSGML v1.0//EN
CALSCALE:GREGORIAN
METHOD:PUBLISH
X-ORIGINAL-URL:https://www.atascaderopolicefoundation.org
X-WR-CALDESC:Events for 
REFRESH-INTERVAL;VALUE=DURATION:PT1H
X-Robots-Tag:noindex
X-PUBLISHED-TTL:PT1H
BEGIN:VTIMEZONE
TZID:UTC
BEGIN:STANDARD
TZOFFSETFROM:+0000
TZOFFSETTO:+0000
TZNAME:UTC
DTSTART:20250101T000000
END:STANDARD
END:VTIMEZONE
BEGIN:VEVENT
DTSTART;TZID=UTC:20261109T180000
DTEND;TZID=UTC:20261109T200000
DTSTAMP:20260421T215229
CREATED:20260420T133622Z
LAST-MODIFIED:20260420T133622Z
UID:1568-1794247200-1794254400@www.atascaderopolicefoundation.org
SUMMARY:APF Board Meeting
DESCRIPTION:The Atascadero Police Foundation Board meets monthly to discuss community safety initiatives and upcoming events. \nCommunity members are welcome to attend by request. To learn more or inquire about joining a meeting\, please contact us at info@atascaderopolicefoundation.org.
URL:https://www.atascaderopolicefoundation.org/event/apf-board-meeting-9/
LOCATION:CA
ATTACH;FMTTYPE=image/png:https://www.atascaderopolicefoundation.org/wp-content/uploads/2024/08/cropped-APF-1.png
END:VEVENT
BEGIN:VEVENT
DTSTART;TZID=UTC:20261214T180000
DTEND;TZID=UTC:20261214T200000
DTSTAMP:20260421T215229
CREATED:20260420T133719Z
LAST-MODIFIED:20260420T133719Z
UID:1580-1797271200-1797278400@www.atascaderopolicefoundation.org
SUMMARY:APF Board Meeting
DESCRIPTION:The Atascadero Police Foundation Board meets monthly to discuss community safety initiatives and upcoming events. \nCommunity members are welcome to attend by request. To learn more or inquire about joining a meeting\, please contact us at info@atascaderopolicefoundation.org.
URL:https://www.atascaderopolicefoundation.org/event/apf-board-meeting-10/
LOCATION:CA
ATTACH;FMTTYPE=image/png:https://www.atascaderopolicefoundation.org/wp-content/uploads/2024/08/cropped-APF-1.png
END:VEVENT
END:VCALENDAR