BEGIN:VCALENDAR
VERSION:2.0
PRODID:-// - ECPv6.15.20//NONSGML v1.0//EN
CALSCALE:GREGORIAN
METHOD:PUBLISH
X-ORIGINAL-URL:https://www.atascaderopolicefoundation.org
X-WR-CALDESC:Events for 
REFRESH-INTERVAL;VALUE=DURATION:PT1H
X-Robots-Tag:noindex
X-PUBLISHED-TTL:PT1H
BEGIN:VTIMEZONE
TZID:UTC
BEGIN:STANDARD
TZOFFSETFROM:+0000
TZOFFSETTO:+0000
TZNAME:UTC
DTSTART:20240101T000000
END:STANDARD
END:VTIMEZONE
BEGIN:VEVENT
DTSTART;TZID=UTC:20250601T070000
DTEND;TZID=UTC:20250601T113000
DTSTAMP:20260425T133812
CREATED:20250506T135043Z
LAST-MODIFIED:20250528T012310Z
UID:1144-1748761200-1748777400@www.atascaderopolicefoundation.org
SUMMARY:Lighthouse 5K & Family Day
DESCRIPTION:The Atascadero Police Foundation is proud to sponsor the Lighthouse 5K for the second year in a row! Join us on Sunday\, June 1st at Ancient Peaks Winery in Santa Margarita for this meaningful event to raise awareness and support funds for drug prevention initiatives. \nA team from the Atascadero Police Department will be running—come cheer them on and visit the APF booth for giveaways and info about our work in the community. \nWe’ll see you at the starting line!
URL:https://www.atascaderopolicefoundation.org/event/lighthouse-5k-family-day/
LOCATION:Ancient Peaks Barn\, (formerly known as Oyster Ridge) 5991 W Pozo Road\, Santa Margarita\, CA\, 92679\, United States
ATTACH;FMTTYPE=image/jpeg:https://www.atascaderopolicefoundation.org/wp-content/uploads/2025/05/quino-al-svwDv5HlAGE-unsplash-scaled.jpg
END:VEVENT
BEGIN:VEVENT
DTSTART;TZID=UTC:20250609T100000
DTEND;TZID=UTC:20250609T150000
DTSTAMP:20260425T133812
CREATED:20250619T215708Z
LAST-MODIFIED:20250619T215708Z
UID:1269-1749463200-1749481200@www.atascaderopolicefoundation.org
SUMMARY:SENIOR CITIZEN FRAUD FAIR
DESCRIPTION:Join the Atascadero Police Foundation at the Senior Fraud Fair in Paso Robles\, where officers will be on hand to share important tips and materials about common scams targeting seniors in our area. Stop by our booth to learn how to protect yourself and your loved ones from fraud—don’t miss this valuable community event!
URL:https://www.atascaderopolicefoundation.org/event/june25fraud/
LOCATION:1400 Quail Run\, Paso Robles\, CA 93446\, 1400 QUAIL RUN\, PASO ROBLES\, CA\, 93446\, United States
ATTACH;FMTTYPE=image/jpeg:https://www.atascaderopolicefoundation.org/wp-content/uploads/2025/06/IMG_8679-scaled.jpg
END:VEVENT
BEGIN:VEVENT
DTSTART;TZID=UTC:20250609T180000
DTEND;TZID=UTC:20250609T200000
DTSTAMP:20260425T133812
CREATED:20250506T135709Z
LAST-MODIFIED:20250506T135927Z
UID:1152-1749492000-1749499200@www.atascaderopolicefoundation.org
SUMMARY:APF Board Meeting w/ Advisory Commitee
DESCRIPTION:The Atascadero Police Foundation Board meets monthly to discuss community safety initiatives and upcoming events. The Atascadero City Manager\, Chief of Atascadero Police\, and the Atascadero Police Association President attend in an advisory role.  Community members are welcome to attend by request. To learn more or inquire about joining a meeting\, please contact us at info@atascaderopolicefoundation.org.
URL:https://www.atascaderopolicefoundation.org/event/apf-board-meeting-2/
ATTACH;FMTTYPE=image/png:https://www.atascaderopolicefoundation.org/wp-content/uploads/2024/08/cropped-APF-1.png
END:VEVENT
BEGIN:VEVENT
DTSTART;TZID=UTC:20250621T130000
DTEND;TZID=UTC:20250621T140000
DTSTAMP:20260425T133812
CREATED:20250528T011444Z
LAST-MODIFIED:20250528T011444Z
UID:1172-1750510800-1750514400@www.atascaderopolicefoundation.org
SUMMARY:ECHO Birthday Party
DESCRIPTION:Join us for a heartwarming celebration as we host a birthday party for  kids in our community! This special event will be filled with fun activities\, cake\, and gifts to make their birthdays unforgettable. \nYour presence and support will make a huge difference in brightening their day and showing them they are loved. We welcome all to participate in making this event extra special. \nWe can’t wait to celebrate with you and the kids at ECHO!
URL:https://www.atascaderopolicefoundation.org/event/echo-birthday-party-3/
LOCATION:ECHO\, 6370 Atascadero Avenue\, Atascadero\, CA\, 93422\, United States
ATTACH;FMTTYPE=image/png:https://www.atascaderopolicefoundation.org/wp-content/uploads/2024/12/ig.echo_.png
END:VEVENT
BEGIN:VEVENT
DTSTART;TZID=UTC:20250624T170000
DTEND;TZID=UTC:20250624T210000
DTSTAMP:20260425T133812
CREATED:20250619T220318Z
LAST-MODIFIED:20250619T220318Z
UID:1274-1750784400-1750798800@www.atascaderopolicefoundation.org
SUMMARY:BATTLE OF THE BADGES
DESCRIPTION:Mark your calendars for Tuesday\, June 24th from 5–9 PM for a fun-filled evening of friendly rivalry as Paso Robles and Atascadero Police Departments face off at Barrelhouse Brewing\, where all the donations will support the Paso Robles Police Association and Atascadero Police Foundation. Back the blue with your donations and support our local heroes in a night of community spirit and good-natured competition—you won’t want to miss it!
URL:https://www.atascaderopolicefoundation.org/event/battleofbadges25/
LOCATION:Barrelhouse Brewing\, 3055 Limestone Way\, Paso Robles\, CA\, 93446\, United States
ATTACH;FMTTYPE=image/jpeg:https://www.atascaderopolicefoundation.org/wp-content/uploads/2025/06/20250624_BattleoftheBadges_SOCIAL-REV2_PD.jpeg
END:VEVENT
END:VCALENDAR