BEGIN:VCALENDAR
VERSION:2.0
PRODID:-// - ECPv6.15.20//NONSGML v1.0//EN
CALSCALE:GREGORIAN
METHOD:PUBLISH
X-ORIGINAL-URL:https://www.atascaderopolicefoundation.org
X-WR-CALDESC:Events for 
REFRESH-INTERVAL;VALUE=DURATION:PT1H
X-Robots-Tag:noindex
X-PUBLISHED-TTL:PT1H
BEGIN:VTIMEZONE
TZID:UTC
BEGIN:STANDARD
TZOFFSETFROM:+0000
TZOFFSETTO:+0000
TZNAME:UTC
DTSTART:20250101T000000
END:STANDARD
END:VTIMEZONE
BEGIN:VEVENT
DTSTART;TZID=UTC:20260914T180000
DTEND;TZID=UTC:20260914T200000
DTSTAMP:20260421T123218
CREATED:20260420T133455Z
LAST-MODIFIED:20260420T133455Z
UID:1570-1789408800-1789416000@www.atascaderopolicefoundation.org
SUMMARY:APF Board Meeting
DESCRIPTION:The Atascadero Police Foundation Board meets monthly to discuss community safety initiatives and upcoming events. \nCommunity members are welcome to attend by request. To learn more or inquire about joining a meeting\, please contact us at info@atascaderopolicefoundation.org.
URL:https://www.atascaderopolicefoundation.org/event/apf-board-meeting-7/
ATTACH;FMTTYPE=image/png:https://www.atascaderopolicefoundation.org/wp-content/uploads/2024/08/cropped-APF-1.png
END:VEVENT
BEGIN:VEVENT
DTSTART;VALUE=DATE:20260915
DTEND;VALUE=DATE:20260918
DTSTAMP:20260421T123218
CREATED:20260403T154017Z
LAST-MODIFIED:20260403T154017Z
UID:1526-1789430400-1789689599@www.atascaderopolicefoundation.org
SUMMARY:Honor Flight
DESCRIPTION:The APF sponsors APD Officers as Guardians for local veterans in need with Honor Flight Central Coast!
URL:https://www.atascaderopolicefoundation.org/event/honor-flight-2/
ATTACH;FMTTYPE=image/jpeg:https://www.atascaderopolicefoundation.org/wp-content/uploads/2024/08/wash-scaled.jpeg
END:VEVENT
END:VCALENDAR